BEGIN:VCALENDAR
VERSION:2.0
METHOD:PUBLISH
X-WR-CALNAME:Mercociudades |  September 01 2016- October 01 2016
PRODID:-//strange bird labs//Drupal iCal API//EN
BEGIN:VEVENT
DTSTAMP;VALUE=DATE-TIME:20260423T064516Z
DTSTART;VALUE=DATE-TIME:20160905T183700Z
DTEND;VALUE=DATE-TIME:20020203
UID:http://www.mercociudades.net/pt-br/node/5966
URL;VALUE=URI:http://www.mercociudades.net/pt-br/node/5966
SUMMARY:2º Foro de Ciudades Inteligentes 
DESCRIPTION:<p>Segundo Foro Ciudades Inteligentes\, en Montevideo\, Uruguay.<br />
 <a href=\\"http\://www.mercociudades.org/node/5971\\">M&aacute\;s informaci&oacute\;n</a></p>
 <p>&nbsp\;</p>
 
END:VEVENT
BEGIN:VEVENT
DTSTAMP;VALUE=DATE-TIME:20260423T064516Z
DTSTART;VALUE=DATE-TIME:20160905T184100Z
DTEND;VALUE=DATE-TIME:20020203
UID:http://www.mercociudades.net/pt-br/node/6023
URL;VALUE=URI:http://www.mercociudades.net/pt-br/node/6023
SUMMARY:XLVII Reunión del Consejo de Mercociudades en Canoas\, Brasil. 
DESCRIPTION:<p>XLVII Reuni&oacute\;n del Consejo de Mercociudades en Canoas\, Brasil.</p>
 <p><a href=\\"http\://mercociudades.org/node/6018\\">M&aacute\;s informaci&oacute\;n </a><br />
 &nbsp\;</p>
 <p>&nbsp\;</p>
 
END:VEVENT
BEGIN:VEVENT
DTSTAMP;VALUE=DATE-TIME:20260423T064516Z
DTSTART;VALUE=DATE-TIME:20160906T171800Z
DTEND;VALUE=DATE-TIME:20020203
UID:http://www.mercociudades.net/pt-br/node/5804
URL;VALUE=URI:http://www.mercociudades.net/pt-br/node/5804
SUMMARY:I Foro Abierto de Ciencias de América Latina y el Caribe
DESCRIPTION:<p>I Foro Abierto de Ciencias de Am&eacute\;rica Latina y el Caribe<br />
 &ldquo\;Transformando nuestra regi&oacute\;n. Ciencias\, tecnolog&iacute\;a e innovaci&oacute\;n&nbsp\;para el Desarrollo Sostenible&rdquo\;\, organizado por la coordinaci&oacute\;n de&nbsp\;la Unidad Tem&aacute\;tica de Ciencia\, Tecnolog&iacute\;a y Capacitaci&oacute\;n\, junto a&nbsp\;UNESCO y otras instituciones\, en Montevideo\, Uruguay.<br />
 <a href=\\"http\://www.mercociudades.org/node/5971\\">M&aacute\;s informaci&oacute\;n</a></p>
 <p>&nbsp\;</p>
 
END:VEVENT
BEGIN:VEVENT
DTSTAMP;VALUE=DATE-TIME:20260423T064516Z
DTSTART;VALUE=DATE-TIME:20160908T183100Z
DTEND;VALUE=DATE-TIME:20020203
UID:http://www.mercociudades.net/pt-br/node/5964
URL;VALUE=URI:http://www.mercociudades.net/pt-br/node/5964
SUMMARY:Reunión de la Unidad Temática de Seguridad Ciudadana
DESCRIPTION:<p>Reuni&oacute\;n de la Unidad Tem&aacute\;tica de Seguridad Ciudadana en Minas\, Lavalleja\, Uruguay. <br />
 <a href=\\"http\://www.mercociudades.org/node/5999 \\">M&aacute\;s informaci&oacute\;n </a></p>
 <p>&nbsp\;</p>
 
END:VEVENT
BEGIN:VEVENT
DTSTAMP;VALUE=DATE-TIME:20260423T064516Z
DTSTART;VALUE=DATE-TIME:20160908T183400Z
DTEND;VALUE=DATE-TIME:20020203
UID:http://www.mercociudades.net/pt-br/node/5965
URL;VALUE=URI:http://www.mercociudades.net/pt-br/node/5965
SUMMARY:Reunión de la Unidad Temática de Ciencia\, Tecnología y Capacitación
DESCRIPTION:<p>Reuni&oacute\;n de la Unidad Tem&aacute\;tica de Ciencia\, Tecnolog&iacute\;a y Capacitaci&oacute\;n\, en Montevideo\, Uruguay.<br />
 <a href=\\"http\://www.mercociudades.org/node/5971\\">M&aacute\;s informaci&oacute\;n</a></p>
 <p>&nbsp\;</p>
 
END:VEVENT
BEGIN:VEVENT
DTSTAMP;VALUE=DATE-TIME:20260423T064516Z
DTSTART;VALUE=DATE-TIME:20160913T184700Z
DTEND;VALUE=DATE-TIME:20020203
UID:http://www.mercociudades.net/pt-br/node/5968
URL;VALUE=URI:http://www.mercociudades.net/pt-br/node/5968
SUMMARY:“Nuevas herramientas para el financiamiento de los gobiernos locales”
DESCRIPTION:<p>Actividad organizada por la Vicepresidencia de Econom&iacute\;a Urbana\, con el BID y ONU H&aacute\;bitat &ldquo\;Nuevas herramientas para el financiamiento de los gobiernos locales&rdquo\;\, Montevideo\, Uruguay.<br />
 <a href=\\"http\://www.mercociudades.org/node/6025 \\">M&aacute\;s informaci&oacute\;n</a></p>
 <p>&nbsp\;</p>
 
END:VEVENT
BEGIN:VEVENT
DTSTAMP;VALUE=DATE-TIME:20260423T064516Z
DTSTART;VALUE=DATE-TIME:20160922T183800Z
DTEND;VALUE=DATE-TIME:20020203
UID:http://www.mercociudades.net/pt-br/node/6022
URL;VALUE=URI:http://www.mercociudades.net/pt-br/node/6022
SUMMARY:“Ciudades intermedias\: escenarios y desafíos en perspectiva de Hábitat III”
DESCRIPTION:<p>&ldquo\;Ciudades intermedias\: escenarios y desaf&iacute\;os en perspectiva de H&aacute\;bitat III&rdquo\;\, organizado por la Unidad Tem&aacute\;tica de Desarrollo Social de Mercociudades y el Centro de Estudios e Investigaci&oacute\;n en Pol&iacute\;ticas Sociales Urbanas \, en Buenos Aires.</p>
 <p><a href=\\"http\://www.mercociudades.org/node/6021\\">M&aacute\;s informaci&oacute\;n&nbsp\;</a></p>
 
END:VEVENT
BEGIN:VEVENT
DTSTAMP;VALUE=DATE-TIME:20260423T064516Z
DTSTART;VALUE=DATE-TIME:20160927T175800Z
DTEND;VALUE=DATE-TIME:20020203
UID:http://www.mercociudades.net/pt-br/node/5727
URL;VALUE=URI:http://www.mercociudades.net/pt-br/node/5727
SUMMARY:Día Mundial del Turismo
DESCRIPTION:<p>D&iacute\;a Mundial del Turismo\, &ldquo\;Turismo para todos\, promover la<br />
 accesibilidad universal&rdquo\;.</p>
 <p><a href=\\"http\://mercociudades.org/node/6052\\">M&aacute\;s informaci&oacute\;n</a></p>
 
END:VEVENT
END:VCALENDAR
