BEGIN:VCALENDAR
VERSION:2.0
METHOD:PUBLISH
X-WR-CALNAME:Mercociudades |  May 24 2015- May 31 2015
PRODID:-//strange bird labs//Drupal iCal API//EN
BEGIN:VEVENT
DTSTAMP;VALUE=DATE-TIME:20260423T195219Z
DTSTART;VALUE=DATE-TIME:20150528T143900Z
DTEND;VALUE=DATE-TIME:20020203
UID:http://www.mercociudades.net/pt-br/node/5271
URL;VALUE=URI:http://www.mercociudades.net/pt-br/node/5271
SUMMARY:Reunión del Grupo de Discapacidad e Inclusión
DESCRIPTION:<p>Durante jornada de capacitaci&oacute\;n y actividad sobre Sexualidad y Diversidad Funcional\, en Villa Carlos Paz\, Argentina. </p>
 <p>Contacto\: <a href=\\"mailto\:morlapatricia@gmail.com\\">morlapatricia@gmail.com</a></p>
 
END:VEVENT
END:VCALENDAR
