BEGIN:VCALENDAR
VERSION:2.0
METHOD:PUBLISH
X-WR-CALNAME:Mercociudades |  December 27 2013- April 06 2014
PRODID:-//strange bird labs//Drupal iCal API//EN
BEGIN:VEVENT
DTSTAMP;VALUE=DATE-TIME:20260425T175808Z
DTSTART;VALUE=DATE-TIME:20140125T180400Z
DTEND;VALUE=DATE-TIME:20020203
UID:http://www.mercociudades.net/pt-br/node/4605
URL;VALUE=URI:http://www.mercociudades.net/pt-br/node/4605
SUMMARY:Cumbre de la CELAC
DESCRIPTION:<p>&nbsp\;La Habana\, Cuba.</p>
 
END:VEVENT
BEGIN:VEVENT
DTSTAMP;VALUE=DATE-TIME:20260425T175808Z
DTSTART;VALUE=DATE-TIME:20140206T180700Z
DTEND;VALUE=DATE-TIME:20020203
UID:http://www.mercociudades.net/pt-br/node/4637
URL;VALUE=URI:http://www.mercociudades.net/pt-br/node/4637
SUMMARY:Reunión de Unidad Temática de Ciencia\, Tecnología y Capacitación
DESCRIPTION:<p>Tandil - Argentina</p>
 <p><a href=\\"http\://www.mercociudades.org/node/4635\\">http\://www.mercociudades.org/node/4635</a></p>
 
END:VEVENT
BEGIN:VEVENT
DTSTAMP;VALUE=DATE-TIME:20260425T175808Z
DTSTART;VALUE=DATE-TIME:20140218T182400Z
DTEND;VALUE=DATE-TIME:20020203
UID:http://www.mercociudades.net/pt-br/node/4634
URL;VALUE=URI:http://www.mercociudades.net/pt-br/node/4634
SUMMARY:Reunión conjunta Secretaría Técnica y Secretaría Ejecutiva de Mercociudades
DESCRIPTION:<p>&nbsp\;Porto Alegre\, Brasil.</p>
 
END:VEVENT
BEGIN:VEVENT
DTSTAMP;VALUE=DATE-TIME:20260425T175808Z
DTSTART;VALUE=DATE-TIME:20140319T113300Z
DTEND;VALUE=DATE-TIME:20020203
UID:http://www.mercociudades.net/pt-br/node/4641
URL;VALUE=URI:http://www.mercociudades.net/pt-br/node/4641
SUMMARY:Reunión de Coordinadores y Subcoordinadores de Unidades Temáticas\, Comisiones y Grupo de Trabajo de Mercociudades\, junto a la SE\, Comisión Directiva y STPM. 
DESCRIPTION:<p>&nbsp\;Montevideo - Uruguay</p>
 
END:VEVENT
BEGIN:VEVENT
DTSTAMP;VALUE=DATE-TIME:20260425T175808Z
DTSTART;VALUE=DATE-TIME:20140326T150000Z
DTEND;VALUE=DATE-TIME:20020203
UID:http://www.mercociudades.net/pt-br/node/4689
URL;VALUE=URI:http://www.mercociudades.net/pt-br/node/4689
SUMMARY:Día del Mercosur
END:VEVENT
BEGIN:VEVENT
DTSTAMP;VALUE=DATE-TIME:20260425T175808Z
DTSTART;VALUE=DATE-TIME:20140405T102900Z
DTEND;VALUE=DATE-TIME:20020203
UID:http://www.mercociudades.net/pt-br/node/4604
URL;VALUE=URI:http://www.mercociudades.net/pt-br/node/4604
SUMMARY:7º Foro Urbano Mundial
DESCRIPTION:<p>Medell&iacute\;n\, Colombia.<br />
 <a href=\\"http\://www.mercociudades.org/node/4602\\" title=\\"www.mercociudades.org/node/4602\\">www.mercociudades.org/node/4602</a></p>
 
END:VEVENT
END:VCALENDAR
