BEGIN:VCALENDAR
VERSION:2.0
METHOD:PUBLISH
X-WR-CALNAME:Mercociudades |  April 10 2011- April 17 2011
PRODID:-//strange bird labs//Drupal iCal API//EN
BEGIN:VEVENT
DTSTAMP;VALUE=DATE-TIME:20260419T174938Z
DTSTART;VALUE=DATE-TIME:20110413T190600Z
DTEND;VALUE=DATE-TIME:20020203
UID:http://www.mercociudades.net/pt-br/node/2577
URL;VALUE=URI:http://www.mercociudades.net/pt-br/node/2577
SUMMARY:Encontro da Rede Brasilera das Cidades Educadoras
DESCRIPTION:<p>Encontro da Rede Brasilera das Cidades Educadoras a realizar-se em Sorocaba\, Brasil. <br />
 <a href=\\"http\://portalpbh.pbh.gov.br/pbh/\\">Mais informa&ccedil\;&atilde\;o</a></p>
 
END:VEVENT
BEGIN:VEVENT
DTSTAMP;VALUE=DATE-TIME:20260419T174938Z
DTSTART;VALUE=DATE-TIME:20110414T132500Z
DTEND;VALUE=DATE-TIME:20020203
UID:http://www.mercociudades.net/pt-br/node/2525
URL;VALUE=URI:http://www.mercociudades.net/pt-br/node/2525
SUMMARY:Seminário “A institucionalidade dos governos locais no processo de integração regional\\"
DESCRIPTION:<p><span id=\\"internal-source-marker_0.2575537525325421\\">Semin&aacute\;rio organizado por Municipalidade de Tandil e co-organizado por Mercociudades -Secretaria Executiva\, STPM e Conselho Diretivo\: &ldquo\;A institucionalidade dos governos locais no processo de integra&ccedil\;&atilde\;o regional\: repensando estrat&eacute\;gias&rdquo\;.<br />
 <a href=\\"http\://www.mercociudades.org/pt-br/node/2612\\">Mais informa</a></span><a href=\\"http\://www.mercociudades.org/pt-br/node/2612\\"><span id=\\"internal-source-marker_0.2575537525325421\\">&ccedil\;&atilde\;o</span></a></p>
 
END:VEVENT
END:VCALENDAR
