BEGIN:VCALENDAR
VERSION:2.0
METHOD:PUBLISH
X-WR-CALNAME:Mercociudades |  December 20 2010- March 30 2011
PRODID:-//strange bird labs//Drupal iCal API//EN
BEGIN:VEVENT
DTSTAMP;VALUE=DATE-TIME:20260420T232517Z
DTSTART;VALUE=DATE-TIME:20110208T201200Z
DTEND;VALUE=DATE-TIME:20020203
UID:http://www.mercociudades.net/pt-br/node/2424
URL;VALUE=URI:http://www.mercociudades.net/pt-br/node/2424
SUMMARY:9ª Asamblea Mundial de FAL – Foro de Autoridades Locales. 
DESCRIPTION:<p>A atividade se realizar&aacute\; em Dakar\, Senegal.</p>
 
END:VEVENT
BEGIN:VEVENT
DTSTAMP;VALUE=DATE-TIME:20260420T232517Z
DTSTART;VALUE=DATE-TIME:20110210T030000Z
DTEND;VALUE=DATE-TIME:20020203
UID:http://www.mercociudades.net/pt-br/node/2425
URL;VALUE=URI:http://www.mercociudades.net/pt-br/node/2425
SUMMARY:Reunião da Comissão Diretiva de MERCOCIDADES
DESCRIPTION:<p>A Reuni&atilde\;o da Comiss&atilde\;o Diretiva de MERCOCIUDADES se realizar&aacute\; em Belo Horizonte\, Brasil.O objetivo desta reuni&atilde\;o &eacute\; o planejamento das atividades 2011 da rede.</p>
 <p>Mais informa&ccedil\;&atilde\;o em\:<br />
 Web\: <a href=\\"http\://www.pbh.gov.br/internacional\\">Portal de la Prefeitura de Belo Horizonte</a><br />
 E-mail\:<a href=\\"http\://ca.mercociudades@pbh.gov.br\\">ca.mercociudades@pbh.gov.br</a></p>
 
END:VEVENT
BEGIN:VEVENT
DTSTAMP;VALUE=DATE-TIME:20260420T232517Z
DTSTART;VALUE=DATE-TIME:20110225T190900Z
DTEND;VALUE=DATE-TIME:20020203
UID:http://www.mercociudades.net/pt-br/node/3106
URL;VALUE=URI:http://www.mercociudades.net/pt-br/node/3106
SUMMARY:Comisión de Derechos Humanos de Mercociudades - Reunión de Comité Consultivo
DESCRIPTION:<p>Comisi&oacute\;n de Derechos Humanos de Mercociudades - Reuni&oacute\;n de Comit&eacute\; Consultivo\, en el marco del encuentro del proyecto Estado + Derechos\, a realizarse en Montevideo\, Uruguay.&nbsp\;<a href=\\"http\://www.mercociudades.org/node/2475\\">M&aacute\;s &nbsp\;informaci&oacute\;n</a></p>
 <p>&nbsp\;</p>
 
END:VEVENT
BEGIN:VEVENT
DTSTAMP;VALUE=DATE-TIME:20260420T232517Z
DTSTART;VALUE=DATE-TIME:20110324T192600Z
DTEND;VALUE=DATE-TIME:20020203
UID:http://www.mercociudades.net/pt-br/node/2496
URL;VALUE=URI:http://www.mercociudades.net/pt-br/node/2496
SUMMARY:Aniversário
DESCRIPTION:<p><span style=\\"font-size\: 10pt\; font-family\: Arial\; color\: rgb(0\, 0\, 0)\; background-color\: transparent\; font-weight\: normal\; font-style\: normal\; text-decoration\: none\; vertical-align\: baseline\;\\">35&ordm\; anivers&aacute\;rio do Terrorismo de Estado na Argentina &nbsp\;(Projeto E+D)</span></p>
 
END:VEVENT
BEGIN:VEVENT
DTSTAMP;VALUE=DATE-TIME:20260420T232517Z
DTSTART;VALUE=DATE-TIME:20110326T155900Z
DTEND;VALUE=DATE-TIME:20110326T155900Z
UID:http://www.mercociudades.net/pt-br/node/2493
URL;VALUE=URI:http://www.mercociudades.net/pt-br/node/2493
SUMMARY:20 anos do MERCOSUL
DESCRIPTION:<p>Atividades pela comemora&ccedil\;&atilde\;o dos 20 anos do MERCOSUL.</p>
 
END:VEVENT
BEGIN:VEVENT
DTSTAMP;VALUE=DATE-TIME:20260420T232517Z
DTSTART;VALUE=DATE-TIME:20110327T193100Z
DTEND;VALUE=DATE-TIME:20020203
UID:http://www.mercociudades.net/pt-br/node/2499
URL;VALUE=URI:http://www.mercociudades.net/pt-br/node/2499
SUMMARY:Atividad UCCI
DESCRIPTION:<p>Comit&ecirc\; Executivo da Uni&atilde\;o de  Cidades Capitais Ibero-americanas (UCCI)\, Quito\, Equador.</p>
 
END:VEVENT
BEGIN:VEVENT
DTSTAMP;VALUE=DATE-TIME:20260420T232517Z
DTSTART;VALUE=DATE-TIME:20110328T160800Z
DTEND;VALUE=DATE-TIME:20020203
UID:http://www.mercociudades.net/pt-br/node/2495
URL;VALUE=URI:http://www.mercociudades.net/pt-br/node/2495
SUMMARY:Reunião de Coordenadores e subcoordinadores de UT's
DESCRIPTION:<p>Reuni&atilde\;o de Coordenadores e subcoordinadores das <a href=\\"http\://www.mercociudades.org/pt-br/node/2287\\">Unidades Tem&aacute\;ticas</a> de Mercociudades.</p>
 <p>A mesma se levar&aacute\; a cabo na cidade de Montevideo\, Uruguai.<br />
 <a href=\\"http\://www.mercociudades.org/pt-br/node/2531\\">Mais informa&ccedil\;&atilde\;o</a>.</p>
 
END:VEVENT
BEGIN:VEVENT
DTSTAMP;VALUE=DATE-TIME:20260420T232517Z
DTSTART;VALUE=DATE-TIME:20110329T152100Z
DTEND;VALUE=DATE-TIME:20020203
UID:http://www.mercociudades.net/pt-br/node/2567
URL;VALUE=URI:http://www.mercociudades.net/pt-br/node/2567
SUMMARY:Reunião de trabalho UTGM 
DESCRIPTION:<p>A Unidade Tem&aacute\;tica de G&ecirc\;nero e Munic&iacute\;pio ter&aacute\; uma reuni&atilde\;o de trabalho para definir linhas estrat&eacute\;gicas de trabalho e plano de a&ccedil\;&atilde\;o a realizar-se em Mor&oacute\;n\, Argentina</p>
 
END:VEVENT
END:VCALENDAR
