BEGIN:VCALENDAR
VERSION:2.0
METHOD:PUBLISH
X-WR-CALNAME:Mercociudades |  mayo 15 2016- mayo 22 2016
PRODID:-//strange bird labs//Drupal iCal API//EN
BEGIN:VEVENT
DTSTAMP;VALUE=DATE-TIME:20260422T041052Z
DTSTART;VALUE=DATE-TIME:20160515T170600Z
DTEND;VALUE=DATE-TIME:20020203
UID:http://www.mercociudades.net/node/5839
URL;VALUE=URI:http://www.mercociudades.net/node/5839
SUMMARY:Primera sesión de la Segunda Asamblea Mundial de Autoridades Locales y Regionales
DESCRIPTION:<p>Instancias de consulta y debate para aportar al borrador de la Nueva Agenda Urbana hacia la Conferencia Mundial H&aacute\;bitat III\, en Nueva York\, Estados Unidos.</p>
 <p><a href=\\"http\://www.mercociudades.org/node/5836\\">M&aacute\;s informaci&oacute\;n&nbsp\;</a></p>
 <p>&nbsp\;</p>
 
END:VEVENT
BEGIN:VEVENT
DTSTAMP;VALUE=DATE-TIME:20260422T041052Z
DTSTART;VALUE=DATE-TIME:20160516T173100Z
DTEND;VALUE=DATE-TIME:20020203
UID:http://www.mercociudades.net/node/5842
URL;VALUE=URI:http://www.mercociudades.net/node/5842
SUMMARY:Audiencias de autoridades locales hacia Hábitat III
DESCRIPTION:<p>Instancias de consulta y debate para aportar al borrador de la Nueva Agenda Urbana hacia la Conferencia Mundial H&aacute\;bitat III\, en Nueva York\, Estados Unidos.<br />
 <a href=\\"http\://www.mercociudades.org/node/5836\\">M&aacute\;s informaci&oacute\;n&nbsp\;</a></p>
 <p>&nbsp\;</p>
 
END:VEVENT
END:VCALENDAR
