BEGIN:VCALENDAR
VERSION:2.0
METHOD:PUBLISH
X-WR-CALNAME:Mercociudades |  febrero 01 2016- marzo 01 2016
PRODID:-//strange bird labs//Drupal iCal API//EN
BEGIN:VEVENT
DTSTAMP;VALUE=DATE-TIME:20260420T015727Z
DTSTART;VALUE=DATE-TIME:20160204T133100Z
DTEND;VALUE=DATE-TIME:20020203
UID:http://www.mercociudades.net/node/5705
URL;VALUE=URI:http://www.mercociudades.net/node/5705
SUMMARY:Reunión de Coordinadores del FCCR
DESCRIPTION:<p>&nbsp\;Reuni&oacute\;n de Coordinadores del Foro Consultivo de Ciudades y Regiones del Mercosur.&nbsp\;</p>
 <p>En Montevideo\, Uruguay.&nbsp\;</p>
 
END:VEVENT
BEGIN:VEVENT
DTSTAMP;VALUE=DATE-TIME:20260420T015727Z
DTSTART;VALUE=DATE-TIME:20160225T133300Z
DTEND;VALUE=DATE-TIME:20020203
UID:http://www.mercociudades.net/node/5706
URL;VALUE=URI:http://www.mercociudades.net/node/5706
SUMMARY:Reunión de la Dirección Ejecutiva de Mercociudades
DESCRIPTION:<p>&nbsp\;Reuni&oacute\;n de la Direcci&oacute\;n Ejecutiva de Mercociudades\, compuesta por la presidencia (S&atilde\;o Paulo)\, las vicepresidencias fijas (Relaciones Institucionales -Canoas-\, Econom&iacute\;a Urbana -Montevideo-\, Desarrollo Social -Lo Prado)\, las vicepresidencias transitorias (Integraci&oacute\;n Fronteriza -Porto Alegre-\, Desarrollo Ubano Sostenible y Cambio Clim&aacute\;tico -Rosario-)\, y las ciudades que componen la Comisi&oacute\;n Directiva (Rosario\, Santa Fe y S&atilde\;o Paulo).</p>
 
END:VEVENT
BEGIN:VEVENT
DTSTAMP;VALUE=DATE-TIME:20260420T015727Z
DTSTART;VALUE=DATE-TIME:20160229T162300Z
DTEND;VALUE=DATE-TIME:20020203
UID:http://www.mercociudades.net/node/5722
URL;VALUE=URI:http://www.mercociudades.net/node/5722
SUMMARY:Reunión de la Delegación de Mercociudades y la CEPAL
DESCRIPTION:<p>Delegaci&oacute\;n de Mercociudades es recibida por Alicia B&aacute\;rcena\, en la&nbsp\;sede de la CEPAL en Santiago de Chile. Participan representantes&nbsp\;de la Presidencia y la Vicepresidencia de Relaciones Institucionales&nbsp\;Red.<br />
 contacto\:&nbsp\;<a href=\\"http\://mercocidades@prefeitura.sp.gov.br\\">mercocidades@prefeitura.sp.gov.br</a></p>
 <p>&nbsp\;</p>
 
END:VEVENT
END:VCALENDAR
