BEGIN:VCALENDAR
VERSION:2.0
METHOD:PUBLISH
X-WR-CALNAME:Mercociudades |  noviembre 30 2014- diciembre 07 2014
PRODID:-//strange bird labs//Drupal iCal API//EN
BEGIN:VEVENT
DTSTAMP;VALUE=DATE-TIME:20260420T074139Z
DTSTART;VALUE=DATE-TIME:20141203T112400Z
DTEND;VALUE=DATE-TIME:20020203
UID:http://www.mercociudades.net/node/5101
URL;VALUE=URI:http://www.mercociudades.net/node/5101
SUMMARY:XIX Cumbre de Mercociudades
DESCRIPTION:<p>Rosario\, Argentina. </p>
 <p>Asamblea General de la Red\, reuniones del Consejo\, de las Unidades Tem&aacute\;ticas y un gran n&uacute\;mero de actividades paralelas\, con la participaci&oacute\;n de representantes de gobiernos locales\, organizaciones de la sociedad civil y de instituciones acad&eacute\;micas de la regi&oacute\;n y el mundo. </p>
 <p><a href=\\"http\://www.mercociudades.org/node/4979\\" title=\\"www.mercociudades.org/node/4979\\">www.mercociudades.org/node/4979</a></p>
 
END:VEVENT
END:VCALENDAR
